BEGIN:VCALENDAR
VERSION:2.0
PRODID:-//www.cancerlegalcare.org//NONSGML kigkonsult.se iCalcreator 2.30.1
 0//
CALSCALE:GREGORIAN
METHOD:PUBLISH
UID:a273f88b-e547-4f0e-b939-a4ea9b5925bc
X-WR-CALDESC:Please join this lunch and learn session to better understand 
 what a power of attorney is\, the importance of choosing the right attorne
 y in fact\, legal requirements\, how to prepare and to answer other common
  questions regarding power of attorneys.
X-WR-RELCALID:40177e1399e06091d123df48df59918d
X-WR-TIMEZONE:America/Chicago
BEGIN:VTIMEZONE
TZID:America/Chicago
BEGIN:STANDARD
TZNAME:CST
DTSTART:20251102T020000
TZOFFSETFROM:-0500
TZOFFSETTO:-0600
RDATE:20261101T020000
END:STANDARD
BEGIN:DAYLIGHT
TZNAME:CDT
DTSTART:20250309T020000
TZOFFSETFROM:-0600
TZOFFSETTO:-0500
RDATE:20260308T020000
RDATE:20270314T020000
END:DAYLIGHT
END:VTIMEZONE
BEGIN:VEVENT
UID:80e90d45-39b9-4675-836a-cd419ab97ab1
DTSTAMP:20260424T015441Z
DESCRIPTION:Please join this lunch and learn session to better understand w
 hat a power of attorney is\, the importance of choosing the right attorney
  in fact\, legal requirements\, how to prepare and to answer other common 
 questions regarding power of attorneys.
DTSTART;TZID=America/Chicago:20260217T120000
DTEND;TZID=America/Chicago:20260217T124500
LOCATION:https://us02web.zoom.us/webinar/register/WN_Tv5z43lzTUKso32HMubjDA
SUMMARY:Understanding Power of Attorney
END:VEVENT
END:VCALENDAR
