BEGIN:VCALENDAR
VERSION:2.0
PRODID:-//www.cancerlegalcare.org//NONSGML kigkonsult.se iCalcreator 2.30.1
 0//
CALSCALE:GREGORIAN
METHOD:PUBLISH
UID:c7d751ea-c9af-4ffd-a509-dc29770523f7
X-WR-CALDESC:Please join this lunch and learn session to better understand 
 how Social Security Disability and SSI can provide financial support when 
 a cancer patient is unable to work. We will cover eligibility\, what to co
 nsider before applying\, and practical tips on how to apply. This session 
 is perfect for patients\, caregivers\, social workers\, and other helpers.
X-WR-RELCALID:60916dcc6cb111e32a9fad135f70ee37
X-WR-TIMEZONE:America/Chicago
BEGIN:VTIMEZONE
TZID:America/Chicago
BEGIN:STANDARD
TZNAME:CST
DTSTART:20251102T020000
TZOFFSETFROM:-0500
TZOFFSETTO:-0600
RDATE:20261101T020000
END:STANDARD
BEGIN:DAYLIGHT
TZNAME:CDT
DTSTART:20260308T020000
TZOFFSETFROM:-0600
TZOFFSETTO:-0500
RDATE:20270314T020000
END:DAYLIGHT
END:VTIMEZONE
BEGIN:VEVENT
UID:8c30be9e-4147-4893-8072-4b8a7c5ac312
DTSTAMP:20260424T001943Z
DESCRIPTION:Please join this lunch and learn session to better understand h
 ow Social Security Disability and SSI can provide financial support when a
  cancer patient is unable to work. We will cover eligibility\, what to con
 sider before applying\, and practical tips on how to apply. This session i
 s perfect for patients\, caregivers\, social workers\, and other helpers.
DTSTART;TZID=America/Chicago:20260317T120000
DTEND;TZID=America/Chicago:20260317T130000
LOCATION:https://us02web.zoom.us/webinar/register/WN_tinZ8PtoSKeGNM33xbwzDA
SUMMARY:Social Security Disability\, SSI\, and Cancer
END:VEVENT
END:VCALENDAR
