BEGIN:VCALENDAR
VERSION:2.0
PRODID:-//www.cancerlegalcare.org//NONSGML kigkonsult.se iCalcreator 2.30.1
 0//
CALSCALE:GREGORIAN
METHOD:PUBLISH
UID:56e47246-3749-4806-b3a7-acc6c6a3c1b6
X-WR-CALDESC:Virtual Options Available \n\nRegistration Today: https://surv
 ivorship.umn.edu/our-events/cancer-survivorship-conference \n\nCancer Lega
 l Care will be tabling at the 20th annual Survivorship Conference! Since 2
 005\, the Masonic Cancer Center in collaboration with M Health Fairview ha
 s proudly hosted this free educational conference that is focused on quest
 ions and issues that survivors and their families often face after cancer 
 treatment or transplant therapy (blood and marrow\, cellular\, or immunoth
 erapy).
X-WR-RELCALID:f03cf48931173a3528b4a8ff97b02e2b
X-WR-TIMEZONE:America/Chicago
BEGIN:VTIMEZONE
TZID:America/Chicago
BEGIN:STANDARD
TZNAME:CST
DTSTART:20251102T020000
TZOFFSETFROM:-0500
TZOFFSETTO:-0600
RDATE:20261101T020000
END:STANDARD
BEGIN:DAYLIGHT
TZNAME:CDT
DTSTART:20260308T020000
TZOFFSETFROM:-0600
TZOFFSETTO:-0500
RDATE:20270314T020000
END:DAYLIGHT
END:VTIMEZONE
BEGIN:VEVENT
UID:bbed783b-530c-45a1-87b2-f7d1e313b247
DTSTAMP:20260423T225028Z
DESCRIPTION:Virtual Options Available \n\nRegistration Today: https://survi
 vorship.umn.edu/our-events/cancer-survivorship-conference \n\nCancer Legal
  Care will be tabling at the 20th annual Survivorship Conference! Since 20
 05\, the Masonic Cancer Center in collaboration with M Health Fairview has
  proudly hosted this free educational conference that is focused on questi
 ons and issues that survivors and their families often face after cancer t
 reatment or transplant therapy (blood and marrow\, cellular\, or immunothe
 rapy).
DTSTART;TZID=America/Chicago:20260411T080000
DTEND;TZID=America/Chicago:20260411T133000
LOCATION:200 SE Oak St\, Minneapolis\, MN 55455 US
SUMMARY:Cancer Survivorship Conference (McNamara Alumni Center)
END:VEVENT
END:VCALENDAR
