BEGIN:VCALENDAR
VERSION:2.0
PRODID:-//www.cancerlegalcare.org//NONSGML kigkonsult.se iCalcreator 2.30.1
 0//
CALSCALE:GREGORIAN
METHOD:PUBLISH
UID:62153fc0-2070-4a69-a7b2-4c05cea733e6
X-WR-CALDESC:The registration link will be provided at a later date.\n\nReg
 ardless of health or age\, we all need to make decisions about our end-of-
 life wishes. A Healthcare Directive is a legal document that communicates 
 your wishes regarding medical care when you are no longer able to. This wo
 rkshop will include an informational session about Healthcare Directives w
 ith experts from medical\, legal\, social work\, and thanatology fields av
 ailable to answer your questions.\n\nAttendees should bring a government-i
 ssued ID.
X-WR-RELCALID:83995e1ecfbcc809e6523f747ff32222
X-WR-TIMEZONE:America/Chicago
BEGIN:VTIMEZONE
TZID:America/Chicago
BEGIN:STANDARD
TZNAME:CST
DTSTART:20251102T020000
TZOFFSETFROM:-0500
TZOFFSETTO:-0600
RDATE:20261101T020000
RDATE:20271107T020000
END:STANDARD
BEGIN:DAYLIGHT
TZNAME:CDT
DTSTART:20260308T020000
TZOFFSETFROM:-0600
TZOFFSETTO:-0500
RDATE:20270314T020000
END:DAYLIGHT
END:VTIMEZONE
BEGIN:VEVENT
UID:d2fe8edf-8040-4daf-8ee4-e0284d4662f0
DTSTAMP:20260424T050736Z
DESCRIPTION:The registration link will be provided at a later date.\n\nRega
 rdless of health or age\, we all need to make decisions about our end-of-l
 ife wishes. A Healthcare Directive is a legal document that communicates y
 our wishes regarding medical care when you are no longer able to. This wor
 kshop will include an informational session about Healthcare Directives wi
 th experts from medical\, legal\, social work\, and thanatology fields ava
 ilable to answer your questions.\n\nAttendees should bring a government-is
 sued ID.
DTSTART;TZID=America/Chicago:20260819T130000
DTEND;TZID=America/Chicago:20260819T160000
LOCATION:14375 S Robert Trail\, Rosemount\, MN 55068 US
SUMMARY:Healthcare Directives: From Start to Finish (Rosemount Steeple Cent
 er)
END:VEVENT
END:VCALENDAR
