BEGIN:VCALENDAR
VERSION:2.0
PRODID:-//www.cancerlegalcare.org//NONSGML kigkonsult.se iCalcreator 2.30.1
 0//
CALSCALE:GREGORIAN
METHOD:PUBLISH
UID:961284ec-5fe5-4161-8a99-7828fab75444
X-WR-CALDESC:Join Cancer Legal Care's Miles for a Mission Team at the Medtr
 onic Twin Cities 10 Mile! Team Cancer Legal Care runners are raising aware
 ness of the impact free legal care has on cancer patients and their famili
 es\, as well as raise funds to support the mission. \n\nWe are looking for
  more team members! Team CLC runners receive a discounted registration rat
 e\, access to the VIP Miles for a Mission tent\, a participant gift from T
 win Cities in Motion\, opportunities for fundraising incentives from Cance
 r Legal Care\, and more! If you are interested in signing up or learning m
 ore\, connect with Maddie below!
X-WR-RELCALID:91b8b762522f72722cbb8fceaa1fb6b5
X-WR-TIMEZONE:America/Chicago
BEGIN:VTIMEZONE
TZID:America/Chicago
BEGIN:STANDARD
TZNAME:CST
DTSTART:20251102T020000
TZOFFSETFROM:-0500
TZOFFSETTO:-0600
RDATE:20261101T020000
RDATE:20271107T020000
END:STANDARD
BEGIN:DAYLIGHT
TZNAME:CDT
DTSTART:20260308T020000
TZOFFSETFROM:-0600
TZOFFSETTO:-0500
RDATE:20270314T020000
RDATE:20280312T020000
END:DAYLIGHT
END:VTIMEZONE
BEGIN:VEVENT
UID:c7661568-d731-4d7c-9985-47913eeeef92
DTSTAMP:20260424T082411Z
DESCRIPTION:Join Cancer Legal Care's Miles for a Mission Team at the Medtro
 nic Twin Cities 10 Mile! Team Cancer Legal Care runners are raising awaren
 ess of the impact free legal care has on cancer patients and their familie
 s\, as well as raise funds to support the mission. \n\nWe are looking for 
 more team members! Team CLC runners receive a discounted registration rate
 \, access to the VIP Miles for a Mission tent\, a participant gift from Tw
 in Cities in Motion\, opportunities for fundraising incentives from Cancer
  Legal Care\, and more! If you are interested in signing up or learning mo
 re\, connect with Maddie below!
DTSTART;TZID=America/Chicago:20261004T050000
DTEND;TZID=America/Chicago:20261004T050001
LOCATION:
SUMMARY:Medtronic Twin Cities 10 Mile with Team Cancer Legal Care
END:VEVENT
END:VCALENDAR
