BEGIN:VCALENDAR
VERSION:2.0
PRODID:-//www.cancerlegalcare.org//NONSGML kigkonsult.se iCalcreator 2.30.1
 0//
CALSCALE:GREGORIAN
METHOD:PUBLISH
UID:fdb6146b-9770-40cb-9152-128cfccff268
X-WR-CALDESC:More information to come!
X-WR-RELCALID:2dae725f1e950f618e0a27cfac1620c9
X-WR-TIMEZONE:America/Chicago
BEGIN:VTIMEZONE
TZID:America/Chicago
BEGIN:STANDARD
TZNAME:CST
DTSTART:20251102T020000
TZOFFSETFROM:-0500
TZOFFSETTO:-0600
RDATE:20261101T020000
RDATE:20271107T020000
END:STANDARD
BEGIN:DAYLIGHT
TZNAME:CDT
DTSTART:20260308T020000
TZOFFSETFROM:-0600
TZOFFSETTO:-0500
RDATE:20270314T020000
RDATE:20280312T020000
END:DAYLIGHT
END:VTIMEZONE
BEGIN:VEVENT
UID:09f0ad4d-3d36-452c-a5d8-0e6af1f9e105
DTSTAMP:20260424T082306Z
DESCRIPTION:More information to come!
DTSTART;TZID=America/Chicago:20261010T050000
DTEND;TZID=America/Chicago:20261010T050001
LOCATION:
SUMMARY:Live\, Laugh\, and Learn Expo with Xperience Health & Wellness
END:VEVENT
END:VCALENDAR
